Workbook

Sheet Optimum Dry Rebrand
A1: Category | B1: Pack Group | C1: Description | D1: Barcode | E1: Mars ZREP | F1: Image Reference | G1: SKU Library Link | H1: Transition Timings
A2: Dry Dog | B2: OPTIMUM Dry Dog 3kg | C2: OPT Dog Adlt 7+ CkVgRc 4x2.7kg | D2: =VLOOKUP(E2,Sheet2!A28:B576,2,FALSE) -> 9334214028880 | E2: 302962 | G2: https://go.skulibrary.com/editProduct/MARS_9334214028880?text=9334214028880 | H2: Complete
A3: Dry Dog | B3: OPTIMUM Dry Dog 3kg | C3: OPT Dog Adlt CkVgRc 4x3kg | D3: =VLOOKUP(E3,Sheet2!A30:B578,2,FALSE) -> 9334214019475 | E3: 269719 | G3: https://go.skulibrary.com/editProduct/MARS_9334214019475?text=9334214019475 | H3: Complete
A4: Dry Dog | B4: OPTIMUM Dry Dog 3kg | C4: OPT Dog Adlt ToySmlBrd CkVgRc 4x3kg | D4: =VLOOKUP(E4,Sheet2!A31:B579,2,FALSE) -> 9334214019482 | E4: 269720 | G4: https://go.skulibrary.com/editProduct/MARS_9334214019482?text=9334214019482 | H4: Complete
A5: Dry Dog | B5: OPTIMUM Dry Dog 3kg | C5: OPT Dog Dental Ck 4x3kg | D5: =VLOOKUP(E5,Sheet2!A32:B580,2,FALSE) -> 9334214060729 | E5: 438328 | G5: https://go.skulibrary.com/editProduct/MARS_9334214060729?text=9334214060729 | H5: Complete
A6: Dry Dog | B6: OPTIMUM Dry Dog 3kg | C6: OPT Dog GrnFree BfVg 4x2.5kg | D6: =VLOOKUP(E6,Sheet2!A34:B582,2,FALSE) -> 9334214042169 | E6: 364773 | G6: https://go.skulibrary.com/editProduct/MARS_9334214042169?text=9334214042169 | H6: Complete
A7: Dry Dog | B7: OPTIMUM Dry Dog 3kg | C7: OPT Dog GrnFree CkVg 4x2.5kg | D7: =VLOOKUP(E7,Sheet2!A35:B583,2,FALSE) -> 9334214042145 | E7: 364771 | G7: https://go.skulibrary.com/editProduct/MARS_9334214042145?text=9334214042145 | H7: Complete
A8: Dry Dog | B8: OPTIMUM Dry Dog 3kg | C8: OPT Pup Ck 4x3kg | D8: =VLOOKUP(E8,Sheet2!A37:B585,2,FALSE) -> 9334214019499 | E8: 269717 | G8: https://go.skulibrary.com/editProduct/MARS_9334214019499?text=9334214019499 | H8: Complete
A9: Dry Dog | B9: OPTIMUM Dry Dog 7kg | C9: OPT Dog Adlt BfVgRc 7kg | D9: =VLOOKUP(E9,Sheet2!A38:B586,2,FALSE) -> 9334214027289 | E9: 281081 | G9: https://go.skulibrary.com/editProduct/MARS_9334214027289?text=9334214027289 | H9: Complete
A10: Dry Dog | B10: OPTIMUM Dry Dog 7kg | C10: OPT Dog Adlt CkVgRc 7kg | D10: =VLOOKUP(E10,Sheet2!A39:B587,2,FALSE) -> 9334214019529 | E10: 253254 | G10: https://go.skulibrary.com/editProduct/MARS_9334214019529?text=9334214019529 | H10: Complete
A11: Dry Dog | B11: OPTIMUM Dry Dog 7kg | C11: OPT Pup Ck 7kg | D11: =VLOOKUP(E11,Sheet2!A41:B589,2,FALSE) -> 9334214021744 | E11: 260999 | G11: https://go.skulibrary.com/editProduct/MARS_9334214021744?text=9334214021744 | H11: Complete
A12: Dry Dog | B12: OPTIMUM Dry Dog 15kg | C12: OPT Dog Adlt 7+ CkVgRc 13.7kg | D12: =VLOOKUP(E12,Sheet2!A42:B590,2,FALSE) -> 9334214028934 | E12: 285591 | G12: https://go.skulibrary.com/editProduct/MARS_9334214028934?text=9334214028934 | H12: Complete
A13: Dry Dog | B13: OPTIMUM Dry Dog 15kg | C13: OPT Dog Adlt CkVgRc 15kg | D13: =VLOOKUP(E13,Sheet2!A43:B591,2,FALSE) -> 9334214024394 | E13: 269643 | G13: https://go.skulibrary.com/editProduct/MARS_9334214024394?text=9334214024394 | H13: Complete
A14: Dry Dog | B14: OPTIMUM Dry Dog 15kg | C14: OPT Dog Adlt HlthyWgt CkVgRc 13kg | D14: =VLOOKUP(E14,Sheet2!A46:B594,2,FALSE) -> 9334214056579 | E14: 421587 | G14: https://go.skulibrary.com/editProduct/MARS_9334214056579?text=9334214056579 | H14: Complete
A15: Dry Dog | B15: OPTIMUM Dry Dog 3kg | C15: OPT Dog Skn & Coat Turkey 3kg | D15: 9334214060903 | E15: 439365 | G15: https://go.skulibrary.com/editProduct/MARS_9334214060903 | H15: Complete
A16: Dry Dog | B16: OPTIMUM Dry Dog 15kg | C16: OPT Dog Adlt LrgGntBrd CkVgRc 15kg | D16: =VLOOKUP(E16,Sheet2!A47:B595,2,FALSE) -> 9334214027319 | E16: 281084 | G16: https://go.skulibrary.com/editProduct/MARS_9334214027319?text=9334214027319 | H16: Complete
A17: Dry Dog | B17: OPTIMUM Dry Dog 15kg | C17: OPT Dog Adlt ToySmlBrd CkVgRc 15kg | D17: =VLOOKUP(E17,Sheet2!A48:B596,2,FALSE) -> 9334214027333 | E17: 281086 | G17: https://go.skulibrary.com/editProduct/MARS_9334214027333?text=9334214027333 | H17: 31st July
A18: Dry Dog | B18: OPTIMUM Dry Dog 15kg | C18: OPT Pup Ck 15kg | D18: =VLOOKUP(E18,Sheet2!A51:B599,2,FALSE) -> 9334214024387 | E18: 269642 | G18: https://go.skulibrary.com/editProduct/MARS_9334214024387?text=9334214024387 | H18: 15th May
A19: Dry Dog | B19: OPTIMUM Dry Dog 15kg | C19: OPT Pup LrgBrd Ck 15kg | D19: =VLOOKUP(E19,Sheet2!A52:B600,2,FALSE) -> 9334214027326 | E19: 281085 | G19: https://go.skulibrary.com/editProduct/MARS_9334214027326?text=9334214027326 | H19: 15th November
A20: Dry Dog | B20: OPTIMUM Dry Dog 18kg | C20: OPT Dog Adlt CkVgRc 18kg | D20: =VLOOKUP(E20,Sheet2!A53:B601,2,FALSE) -> 9334214024370 | E20: 269641 | G20: https://go.skulibrary.com/editProduct/MARS_9334214024370?text=9334214024370 | H20: Complete
A21: Dry Dog | B21: OPTIMUM Dry Dog 18kg | C21: OPT Dog Adlt LrgGntBrd CkVgRc 18kg | D21: =VLOOKUP(E21,Sheet2!A54:B602,2,FALSE) -> 9334214028910 | E21: 285589 | G21: https://go.skulibrary.com/editProduct/MARS_9334214028910?text=9334214028910 | H21: Complete
A22: Dry Cat | B22: OPTIMUM Dry Kitten 800g | C22: OPT Kit Ck 6x800g | D22: =VLOOKUP(E22,Sheet2!A55:B603,2,FALSE) -> 9334214044842 | E22: 371740 | G22: https://go.skulibrary.com/editProduct/MARS_9334214044842?text=9334214044842 | H22: Complete
A23: Dry Cat | B23: OPTIMUM Dry Cat 2kg | C23: OPT Cat Adlt Furball Ck 4x2kg | D23: =VLOOKUP(E23,Sheet2!A16:B564,2,FALSE) -> 9334214044781 | E23: 371734 | G23: https://go.skulibrary.com/editProduct/MARS_9334214044781?text=9334214044781 | H23: 8th May
A24: Dry Cat | B24: OPTIMUM Dry Cat 2kg | C24: OPT Cat Adlt GrnFr Urnry Ck 4x1.8kg | D24: =VLOOKUP(E24,Sheet2!A17:B565,2,FALSE) -> 9334214060828 | E24: 438823 | G24: https://go.skulibrary.com/editProduct/MARS_9334214060828?text=9334214060828 | H24: 3rd August
A25: Dry Cat | B25: OPTIMUM Dry Cat 2kg | C25: OPT Cat Adlt Indoor Ck 4x2kg | D25: =VLOOKUP(E25,Sheet2!A18:B566,2,FALSE) -> 9334214060781 | E25: 438746 | G25: https://go.skulibrary.com/editProduct/MARS_9334214060781?text=9334214060781 | H25: 2nd August
A26: Dry Cat | B26: OPTIMUM Dry Cat 2kg | C26: OPT Cat Adlt OcFs 4x2kg | D26: =VLOOKUP(E26,Sheet2!A19:B567,2,FALSE) -> 9334214054339 | E26: 413055 | G26: https://go.skulibrary.com/editProduct/MARS_9334214054339?text=9334214054339 | H26: 18th May
A27: Dry Cat | B27: OPTIMUM Dry Cat 2kg | C27: OPT Cat Adlt Oral Care Ck 4x2kg | D27: =VLOOKUP(E27,Sheet2!A20:B568,2,FALSE) -> 9334214060767 | E27: 438600 | G27: https://go.skulibrary.com/editProduct/MARS_9334214060767?text=9334214060767 | H27: 23rd June
A28: Dry Cat | B28: OPTIMUM Dry Cat 800g | C28: OPT Cat Adlt OcFs 6x800g | D28: =VLOOKUP(E28,Sheet2!A23:B571,2,FALSE) -> 9334214054445 | E28: 413002 | G28: https://go.skulibrary.com/editProduct/MARS_9334214054445?text=9334214054445 | H28: 27th August
A29: Dry Cat | B29: OPTIMUM Dry Cat 800g | C29: OPT Cat Furball Ck 6x800g | D29: =VLOOKUP(E29,Sheet2!A24:B572,2,FALSE) -> 9334214044804 | E29: 371736 | G29: https://go.skulibrary.com/editProduct/MARS_9334214044804?text=9334214044804 | H29: 16th May

Sheet Optimum Wet
A1: Category | B1: Pack Group | C1: Description | D1: Barcode | E1: Mars ZREP | F1: Image Reference | G1: SKU Library Link
A2: Wet Dog | B2: OPTIMUM Adult MP 24 Pack | C2: OPT Urnry OcFs SknCt Sal 2x(24x85g) MVMP | D2: =VLOOKUP(E2,Sheet2!A1:B549,2,FALSE) -> 9334214060316 | E2: 437365 | F2: COMING SOON - P9 | G2: COMING SOON - P9
A3: Wet Dog | B3: OPTIMUM Can Dog 400g | C3: OPT Dog Adult BfRc 24x400g | D3: =VLOOKUP(E3,Sheet2!A2:B550,2,FALSE) -> 9334214036724 | E3: 323219 | F3: COMING SOON - P9 | G3: COMING SOON - P9
A4: Wet Dog | B4: OPTIMUM Can Dog 400g | C4: OPT Dog Adult CkRc 24x400g | D4: =VLOOKUP(E4,Sheet2!A3:B551,2,FALSE) -> 9334214036762 | E4: 323223 | F4: COMING SOON - P9 | G4: COMING SOON - P9
A5: Wet Dog | B5: OPTIMUM Can Dog 400g | C5: OPT Dog Adult LbRc 24x400g | D5: =VLOOKUP(E5,Sheet2!A4:B552,2,FALSE) -> 9334214036748 | E5: 323221 | F5: COMING SOON - P9 | G5: COMING SOON - P9
A6: Wet Dog | B6: OPTIMUM Can Dog 700g | C6: OPT Dog Adult BfRc 12x700g | D6: =VLOOKUP(E6,Sheet2!A5:B553,2,FALSE) -> 9310022193200 | E6: 181022 | F6: COMING SOON - P9 | G6: COMING SOON - P9
A7: Wet Dog | B7: OPTIMUM Can Dog 700g | C7: OPT Dog Adult KngrVg 12x700g | D7: =VLOOKUP(E7,Sheet2!A6:B554,2,FALSE) -> 9334214046990 | E7: 379369 | F7: COMING SOON - P9 | G7: COMING SOON - P9
A8: Wet Dog | B8: OPTIMUM Can Dog 700g | C8: OPT Dog Adult LbRc 12x700g | D8: =VLOOKUP(E8,Sheet2!A7:B555,2,FALSE) -> 9310022193309 | E8: 181049 | F8: COMING SOON - P9 | G8: COMING SOON - P9
A9: Wet Dog | B9: OPTIMUM Can Dog 700g | C9: OPT Dog Adult LightHealth CkRc 12x680g | D9: =VLOOKUP(E9,Sheet2!A8:B556,2,FALSE) -> 9310022193101 | E9: 181050 | F9: COMING SOON - P9 | G9: COMING SOON - P9
A10: Wet Dog | B10: OPTIMUM Can Dog 700g | C10: OPT Pup CkRc 12x700g | D10: =VLOOKUP(E10,Sheet2!A9:B557,2,FALSE) -> 9310022193002 | E10: 181021 | F10: COMING SOON - P9 | G10: COMING SOON - P9
A11: Wet Dog | B11: OPTIMUM Tray 100g | C11: OPT CkRc 12x100g | D11: 9334214023281 | E11: 264312 | F11: COMING SOON - P9 | G11: COMING SOON - P9
A12: Wet Dog | B12: OPTIMUM Tray 100g | C12: OPT Dog Digest LbBn 14x85g | D12: 9334214050881 | E12: 402942 | F12: COMING SOON - P9 | G12: COMING SOON - P9
A13: Wet Dog | B13: OPTIMUM Tray 100g | C13: OPT KngrVg 12x100g | D13: 9334214040851 | E13: 359506 | F13: COMING SOON - P9 | G13: COMING SOON - P9
A14: Wet Dog | B14: OPTIMUM Tray 100g | C14: OPT LbRc 12x100g | D14: 9334214036199 | E14: 321187 | F14: COMING SOON - P9 | G14: COMING SOON - P9
A15: Wet Dog | B15: OPTIMUM Tray 100g | C15: OPT Pup CkRcVg 12x100g | D15: 9334214023274 | E15: 264311 | F15: COMING SOON - P9 | G15: COMING SOON - P9
A16: Wet Dog | B16: OPTIMUM Tray 100g | C16: OPT SaRc 12x100g | D16: 9334214023311 | E16: 264315 | F16: COMING SOON - P9 | G16: COMING SOON - P9
A17: Wet Dog | B17: OPTIMUM Tray MP (24x100g) | C17: OPT CkRc SVMP (24x100g) | D17: 9334214058047 | E17: 429373 | F17: COMING SOON - P9 | G17: COMING SOON - P9
A18: Wet Dog | B18: OPTIMUM Tray MP (24x100g) | C18: OPT LbRc SVMP (24x100g) | D18: 9334214058054 | E18: 429374 | F18: COMING SOON - P9 | G18: COMING SOON - P9
A19: Wet Dog | B19: OPTIMUM Tray SVMS 6x100g | C19: OPT CkRc 6x(6x100g) | D19: 9334214056203 | E19: 419505 | F19: COMING SOON - P9 | G19: COMING SOON - P9
A20: Wet Dog | B20: OPTIMUM Tray SVMS 6x100g | C20: OPT LbRc 6x(6x100g) | D20: 9334214056227 | E20: 419507 | F20: COMING SOON - P9 | G20: COMING SOON - P9
A21: Wet Dog | B21: OPTIMUM Tray SVMS 6x100g | C21: OPT Pup CkRcVg 6x(6x100g) | D21: 9334214056180 | E21: 419503 | F21: COMING SOON - P9 | G21: COMING SOON - P9
A22: Wet Dog | B22: OPTIMUM Tray SVMS 6x100g | C22: OPT SaRc 6x(6x100g) | D22: 9334214056241 | E22: 419509 | F22: COMING SOON - P9 | G22: COMING SOON - P9
A23: Wet Cat | B23: OPTIMUM Cat Pouch 12 MPs | C23: OPT Cat NtrlDfnc & SknCt MVMP 5x(12x85g) | D23: =VLOOKUP(E23,Sheet2!A10:B558,2,FALSE) -> 8853301006422 | E23: 430191 | F23: COMING SOON - P9 | G23: COMING SOON - P9
A24: Wet Cat | B24: OPTIMUM Cat Pouch 85g | C24: OPT HlthyWgt CIJ Ck 5x15x85g AU | D24: =VLOOKUP(E24,Sheet2!A11:B559,2,FALSE) -> 9334214053424 | E24: 411283 | F24: COMING SOON - P9 | G24: COMING SOON - P9
A25: Wet Cat | B25: OPTIMUM Cat Pouch 85g | C25: OPT Mature CIJ Sal 5x15x85g AU | D25: =VLOOKUP(E25,Sheet2!A12:B560,2,FALSE) -> 9334214053462 | E25: 411287 | F25: COMING SOON - P9 | G25: COMING SOON - P9
A26: Wet Cat | B26: OPTIMUM Cat Pouch 85g | C26: OPT SknCt CIJ Sal 5x15x85g AU | D26: =VLOOKUP(E26,Sheet2!A14:B562,2,FALSE) -> 9334214053349 | E26: 411275 | F26: COMING SOON - P9 | G26: COMING SOON - P9
A27: Wet Cat | B27: OPTIMUM Cat Pouch 85g | C27: OPT Urnry CIJ OcFs 5x15x85g AU | D27: =VLOOKUP(E27,Sheet2!A15:B563,2,FALSE) -> 9334214053448 | E27: 411285 | F27: COMING SOON - P9 | G27: COMING SOON - P9
A28: Wet Cat | B28: OPTIMUM Kitten 12 Multi-packs | C28: OPT Kit HlthyDev CIJ Sal SVMP5x(12x85g) | D28: =VLOOKUP(E28,Sheet2!A56:B604,2,FALSE) -> 8853301006446 | E28: 430193 | F28: COMING SOON - P9 | G28: COMING SOON - P9
A29: Wet Cat | B29: OPTIMUM Kitten MP 24 Pack | C29: OPT Kit HlthyDev CIJ Sal 2x(24x85g) AU | D29: =VLOOKUP(E29,Sheet2!A57:B605,2,FALSE) -> 9334214060293 | E29: 437351 | F29: COMING SOON - P9 | G29: COMING SOON - P9
A30: Wet Cat | B30: OPTIMUM Pch kitten 15x85g | C30: OPT Kit HlthyDev CIJ Sal 5x15x85g AU | D30: =VLOOKUP(E30,Sheet2!A58:B606,2,FALSE) -> 9334214053400 | E30: 411281 | F30: COMING SOON - P9 | G30: COMING SOON - P9

Sheet Sheet2
A1: ZREP Code | B1: APN Code
A2: 318933 | B2: 9334214029788
A3: 318930 | B3: 9334214029801
A4: 318931 | B4: 9334214029825
A5: 281477 | B5: 9334214017525
A6: 281478 | B6: 9334214017532
A7: 281473 | B7: 9334214017549
A8: 281476 | B8: 9334214017518
A9: 318932 | B9: 9334214029764
A10: 441707 | B10: 9334214061535
A11: 441708 | B11: 9334214061542
A12: 441714 | B12: 9334214061603
A13: 441710 | B13: 9334214061566
... A370: 245769 | B370: 9334214018218
A371: 428542
A372: 245788 | B372: 9334214018409
A373: 245794 | B373: 9334214018461
A374: 245792 | B374: 9334214018447
A375: 245791 | B375: 9334214018430
A376: 332447 | B376: 9334214038308
A377: 332445 | B377: 9334214038285
A378: 245787 | B378: 9334214018393
A379: 438835 | B379: 9334214060842
A380: 438993 | B380: 9334214060866
A381: 438994 | B381: 9334214060873
A382: 438981 | B382: 9334214060859
A383: 334301 | B383: 9334214038698
... A549: 304413 | B549: 9334214034133
